BEGIN:VCALENDAR
VERSION:2.0
PRODID:-//Marmion Beach Fitness - ECPv5.0.2.1//NONSGML v1.0//EN
CALSCALE:GREGORIAN
METHOD:PUBLISH
X-WR-CALNAME:Marmion Beach Fitness
X-ORIGINAL-URL:https://www.marmionbeachfitness.com.au
X-WR-CALDESC:Events for Marmion Beach Fitness
BEGIN:VTIMEZONE
TZID:Australia/Perth
BEGIN:STANDARD
TZOFFSETFROM:+0800
TZOFFSETTO:+0800
TZNAME:AWST
DTSTART:20170101T000000
END:STANDARD
END:VTIMEZONE
BEGIN:VEVENT
DTSTART;TZID=Australia/Perth:20170916T080000
DTEND;TZID=Australia/Perth:20170916T083000
DTSTAMP:20200229T145418
CREATED:20170909T130312Z
LAST-MODIFIED:20170918T045657Z
UID:927-1505548800-1505550600@www.marmionbeachfitness.com.au
SUMMARY:H.I.I.T - High Intensity Interval Training
DESCRIPTION:Saturdays 8:30 to 8:30 am\nH.I.I.T – High Intensity Interval Training \nAt Marmion Beach Fitness with Billi C \nPlaces are limited – $10.00 per person \nInquiries – Please call reception during strafed hours Tel: 9243 4682 \n \n
URL:https://www.marmionbeachfitness.com.au/event/h-t-high-intensity-interval-training-2/
LOCATION:Marmion Beach Fitness\, Shop 14 Marmion Village Shopping Centre 19 Sheppard Way19 Sheppard Way\, Marmion\, Western Australia\, 6020\, Australia
CATEGORIES:H.I.I.T High Intensity Intaval Training
ATTACH;FMTTYPE=image/jpeg:https://www.marmionbeachfitness.com.au/wp-content/uploads/2017/09/HIIT-BILLI-C-Saturday-1.jpg
END:VEVENT
END:VCALENDAR